BEGIN:VCALENDAR
VERSION:2.0
PRODID:-//Mama Village - ECPv6.3.2//NONSGML v1.0//EN
CALSCALE:GREGORIAN
METHOD:PUBLISH
X-WR-CALNAME:Mama Village
X-ORIGINAL-URL:https://www.mamavillage.be
X-WR-CALDESC:Evenementen voor Mama Village
REFRESH-INTERVAL;VALUE=DURATION:PT1H
X-Robots-Tag:noindex
X-PUBLISHED-TTL:PT1H
BEGIN:VTIMEZONE
TZID:Europe/Brussels
BEGIN:DAYLIGHT
TZOFFSETFROM:+0100
TZOFFSETTO:+0200
TZNAME:CEST
DTSTART:20230326T010000
END:DAYLIGHT
BEGIN:STANDARD
TZOFFSETFROM:+0200
TZOFFSETTO:+0100
TZNAME:CET
DTSTART:20231029T010000
END:STANDARD
END:VTIMEZONE
BEGIN:VEVENT
DTSTART;TZID=Europe/Brussels:20230325T140000
DTEND;TZID=Europe/Brussels:20230325T160000
DTSTAMP:20260426T055337
CREATED:20230228T070054Z
LAST-MODIFIED:20230227T162621Z
UID:747-1679752800-1679760000@www.mamavillage.be
SUMMARY:Draagwandeling in week van het dragen
DESCRIPTION:In maart kon onze wandeling niet op een beter moment vallen\, dan in de week van het dragen! \nGa jij met ons mee op pad? We spreken af om 14u00 bij Blabloom\, en gaan van daaruit samen wandelen in De Maten. We namen al een aantal keren dezelfde route\, maar zullen deze keer een ander pad bewandelen! Dus geen nood als je al eens meeging\, het zal niet hetzelfde zijn! Ik hoop alvast op een prachtig lentezonnetje dat ons zal vergezellen. \nNaar goede gewoonte zal draagconsulente Melissa van Blabloom zal er bijzijn om\, indien jullie dit wensen\, jullie draagsystemen na te kijken en indien nodig bij te stellen. Zij zal ook meewandelen\, zodat jullie ook tijdens de wandeling bij haar terecht kunnen. \nNa de wandeling zijn we welkom bij Blabloom voor een hapje en drankje. Ook voorzien zij een goodiebag voor de deelnemers\, en kunnen de kindjes spelen in de speelhoek. En wie weet\, volgt ‘er nog wel een extra verrassing voor de deelnemers\, in het kader van de week van het dragen.. \nPS: je bent natuurlijk ook welkom als je liever komt met de buggy\, dan met een drager! Zin in verbinden\, is alles wat je écht nodig hebt 🙂 \nPPS: als het echt slecht weer is\, spreken we gewoon af bij Blabloom zelf\, voor het spelen en babbelen! 🙂 \nPraktisch: je dient enkel in te schrijven voor de volwassenen. De bijdrage bedraagt €2\,00/persoon. Je ontvangt na je inschrijving van mij hierover nog een mail. Let op: je inschrijving is definitief na ontvangst van je betaling. Deze dient na 10 dagen (of max. 7d voor de activiteit) in orde te zijn\, anders kan ik je plekje helaas niet voorbehouden. Enkele dagen voor de wandeling ontvang je nog een mail van mij met de laatste details! Die mail beland jammer genoeg soms in SPAM/ongewenste mails. Check dus zeker ook daar. \nVoor een annulatie tot 48u voor de activiteit kan je me steeds contacteren.
URL:https://www.mamavillage.be/activiteit/draagwandeling-in-week-van-het-dragen/
LOCATION:Hasseltweg 78\, 3600 Genk\, Hasseltweg 78\, Genk\, Limburg\, 3600\, België
CATEGORIES:(Draag) wandelingen
END:VEVENT
END:VCALENDAR