BEGIN:VCALENDAR
VERSION:2.0
PRODID:-//Mama Village - ECPv6.3.2//NONSGML v1.0//EN
CALSCALE:GREGORIAN
METHOD:PUBLISH
X-ORIGINAL-URL:https://www.mamavillage.be
X-WR-CALDESC:Evenementen voor Mama Village
REFRESH-INTERVAL;VALUE=DURATION:PT1H
X-Robots-Tag:noindex
X-PUBLISHED-TTL:PT1H
BEGIN:VTIMEZONE
TZID:Europe/Brussels
BEGIN:DAYLIGHT
TZOFFSETFROM:+0100
TZOFFSETTO:+0200
TZNAME:CEST
DTSTART:20230326T010000
END:DAYLIGHT
BEGIN:STANDARD
TZOFFSETFROM:+0200
TZOFFSETTO:+0100
TZNAME:CET
DTSTART:20231029T010000
END:STANDARD
BEGIN:DAYLIGHT
TZOFFSETFROM:+0100
TZOFFSETTO:+0200
TZNAME:CEST
DTSTART:20240331T010000
END:DAYLIGHT
BEGIN:STANDARD
TZOFFSETFROM:+0200
TZOFFSETTO:+0100
TZNAME:CET
DTSTART:20241027T010000
END:STANDARD
END:VTIMEZONE
BEGIN:VEVENT
DTSTART;TZID=Europe/Brussels:20230603T100000
DTEND;TZID=Europe/Brussels:20230603T120000
DTSTAMP:20260426T055400
CREATED:20230523T152432Z
LAST-MODIFIED:20230523T152432Z
UID:817-1685786400-1685793600@www.mamavillage.be
SUMMARY:Draagwandeling met speurzoektocht
DESCRIPTION:We maken onze draagwandeling in juni extra interactief! We voorzien namelijk een speurtocht voor de kindjes doorheen het bos! \nGa jij met ons mee op pad? We spreken af om 9u45 bij Blabloom\, en gaan van daaruit samen wandelen in De Maten. Ik hoop alvast op een prachtig lentezonnetje dat ons zal vergezellen. \nNaar goede gewoonte zal draagconsulente Melissa van Blabloom zal er bijzijn om\, indien jullie dit wensen\, jullie draagsystemen na te kijken en indien nodig bij te stellen. Zij zal ook meewandelen\, zodat jullie ook tijdens de wandeling bij haar terecht kunnen. \nNa de wandeling zijn we welkom bij Blabloom voor een hapje en drankje. Ook voorzien zij een goodiebag voor de deelnemers\, en kunnen de kindjes spelen in de speelhoek. Dit volledig in het thema van ‘ik ga op reis en ik neem mee..’\, want die reisplannen beginnen dichterbij te komen! \n  \nPS: je bent natuurlijk ook welkom als je liever komt met de buggy\, dan met een drager! Zin in verbinden\, is alles wat je écht nodig hebt 🙂 \n  \nPPS: als het echt slecht weer is\, spreken we gewoon af bij Blabloom zelf\, voor het spelen en babbelen! 🙂 \n  \nPraktisch: je dient enkel in te schrijven voor de volwassenen. De bijdrage bedraagt €2\,00/persoon. Je ontvangt na je inschrijving van mij hierover nog een mail. Let op: je inschrijving is definitief na ontvangst van je betaling. Deze dient na 10 dagen (of max. 7d voor de activiteit) in orde te zijn\, anders kan ik je plekje helaas niet voorbehouden. Enkele dagen voor de wandeling ontvang je nog een mail van mij met de laatste details! Die mail beland jammer genoeg soms in SPAM/ongewenste mails. Check dus zeker ook daar. \n  \nVoor een annulatie tot 48u voor de activiteit kan je me steeds contacteren.
URL:https://www.mamavillage.be/activiteit/draagwandeling-met-speurzoektocht/
LOCATION:Hasseltweg 78\, 3600 Genk\, Hasseltweg 78\, Genk\, Limburg\, 3600\, België
CATEGORIES:(Draag) wandelingen
END:VEVENT
BEGIN:VEVENT
DTSTART;TZID=Europe/Brussels:20230604T100000
DTEND;TZID=Europe/Brussels:20230604T120000
DTSTAMP:20260426T055400
CREATED:20230414T074014Z
LAST-MODIFIED:20230414T074014Z
UID:775-1685872800-1685880000@www.mamavillage.be
SUMMARY:Speeldate
DESCRIPTION:Het begint stilaan mooier weer te worden\, dus ook weer tijd voor een speeltuindate! \nWe spreken af op zondag 4 juni in ’t Vroenhof in Heusden-Zolder! Hier kunnen de kindjes spelen\, en is ook een kinderboerderij’tje. En met mooi weer: vers hoeve-ijs\, jum! Omdat ze hier zelf een barretje hebben voor drinken\, zal ik enkel een koekje voorzien. \nPS: moest het echt slecht weer zijn\, dan contacteer ik de deelnemers om even af te stemmen of we bv. afspreken in een binnenspeeltuin. Als je kindje meekomt\, moet je hem/haar niet apart inschrijven! Als aantal bij inschrijving mag je het aantal volwassenen tellen! \nPraktisch: je dient enkel in te schrijven voor de volwassenen. Deze activiteit komt op €2\,00/persoon. Je ontvangt na je inschrijving van mij hierover nog een mail. Let op: je inschrijving is definitief na ontvangst van je betaling. Deze dient na 10 dagen (of max. 7d voor de activiteit) in orde te zijn\, anders kan ik je plekje helaas niet voorbehouden. Enkele dagen voor de babbel ontvang je nog een mail van mij met de laatste details! Die mail beland jammer genoeg soms in SPAM/ongewenste mails. Check dus zeker ook daar. \nVoor een annulatie tot 48u voor de activiteit kan je me steeds contacteren. \n 
URL:https://www.mamavillage.be/activiteit/speeldate/
LOCATION:’t Vroenhof\, Vroenweg 17\, 3550 Heusden-Zolder\, Vroenweg 17\, Heusden-Zolder\, 3550
CATEGORIES:Speelmomentjes
END:VEVENT
BEGIN:VEVENT
DTSTART;TZID=Europe/Brussels:20230709T100000
DTEND;TZID=Europe/Brussels:20230709T123000
DTSTAMP:20260426T055400
CREATED:20230614T150627Z
LAST-MODIFIED:20230614T150627Z
UID:838-1688896800-1688905800@www.mamavillage.be
SUMMARY:speeltuindate
DESCRIPTION:We spreken af op zondag 9 juli om 10u00 in de speeltuin van Bokrijk! Hier zijn verschillende stukken speeltuin\, zodat ik er wel denk dat elk kindje er iets aan heeft! Ik voorzie voor de ouders die erbij zijn een verfrissend drankje en iets om te snoepen. \nPraktisch: je dient enkel in te schrijven voor de volwassenen. Deze activiteit komt op €2\,50/persoon. Je ontvangt na je inschrijving van mij hierover nog een mail. Let op: je inschrijving is definitief na ontvangst van je betaling. Deze dient na 10 dagen (of max. 7d voor de activiteit) in orde te zijn\, anders kan ik je plekje helaas niet voorbehouden. Enkele dagen voor de babbel ontvang je nog een mail van mij met de laatste details! Die mail beland jammer genoeg soms in SPAM/ongewenste mails. Check dus zeker ook daar. \nVoor een annulatie tot 48u voor de activiteit kan je me steeds contacteren. \n 
URL:https://www.mamavillage.be/activiteit/speeltuindate-2/
LOCATION:Bokrijk\, Bokrijklaan 1\, Genk\, Limburg\, 3600\, België
CATEGORIES:Speelmomentjes
END:VEVENT
BEGIN:VEVENT
DTSTART;TZID=Europe/Brussels:20230712T190000
DTEND;TZID=Europe/Brussels:20230712T210000
DTSTAMP:20260426T055400
CREATED:20230624T121620Z
LAST-MODIFIED:20230627T155921Z
UID:849-1689188400-1689195600@www.mamavillage.be
SUMMARY:Fotoshoot wereldborstvoedingsweek
DESCRIPTION:Wereldborstvoedingsweek 2023 komt eraan! \n\nAls er iets is dat ik gaandeweg zelf ervaren heb\, is het dat ik het toch wel heel fijn vind om die mooie intieme momenten samen ook eens vast te laten leggen. Ter ere van wereldborstvoedingsweek\, besloot ik daarom samen met Nele van Bellafotografie een groepsshoot op poten te zetten. \n \nOp woensdag 12 juli komen we graag samen rond zonondergang in Zonhoven/Heusden-Zolder met in totaal 10 voedende ouders. Of je nu live voedt of kolft\, of iets daartussenin\, je bent ontzettend welkom. \n \nNele zal zowel van elke voedende ouder persoonlijke intieme beelden maken\, als groepsfoto’s van ons samen. Hou er rekening mee dat de groepsfoto’s online gedeeld kunnen worden\, hiervoor geef je bij inschrijven ook toestemming. \n\nOm van de groepsfoto’s een mooi geheel te kunnen maken\, vragen wij om binnen één kleurenpalet te blijven\, van natuurlijke kleuren (beige\, bruin\, natuurlijk groen\, steenrood). Hiervan ontvang je van ons ook nog een moodboard! Dit type foto’s is ook erg mooi met huid-op-huidfoto’s\, het tonen van  wat huid moedigen we daarom wel aan. Voorzie\, indien je dit wil\, dus zeker ook passende lingerie. Dit kan bv. ook met een kimono. Of gewoon in kledij\, we vinden het bovenal belangrijk dat je je goed voelt die dag! \n\nWij zorgen voor picknickkleden en iets lekkers om te drinken en knabbelen voor tussen de shootmomenten door. We maken er\, naast een fotomoment\, ook een mooi verbindend moment samen van.\n \nJouw investering: € 110. Hierbij zijn 5 persoonlijke beelden inbegrepen samen met de groepsfoto’s\, je kan er indien gewenst ook altijd bijkopen. Je zal de beelden hebben voor wereldborstvoedingsweek\, zodat je ze die week ook kan delen!  \n\nNa inschrijving ontvang je van ons rond 1 juli een mail met alle details en betalingsgegevens. Na ontvangst van je betaling is je inschrijving definitief. \n\nZit je nog met vragen\, aarzel dan niet om ons te contacteren!\n \nVeel liefs\nNele en Ann 
URL:https://www.mamavillage.be/activiteit/fotoshoot-wereldborstvoedingsweek/
LOCATION:Limburg
END:VEVENT
BEGIN:VEVENT
DTSTART;TZID=Europe/Brussels:20230910T100000
DTEND;TZID=Europe/Brussels:20230910T120000
DTSTAMP:20260426T055400
CREATED:20230822T153030Z
LAST-MODIFIED:20230822T153103Z
UID:873-1694340000-1694347200@www.mamavillage.be
SUMMARY:FAQ-ochtend met Nele Reymen
DESCRIPTION:Nele Reymen is autour\, columniste en mama van twee. Haar nieuwste boekbaby is een lijvige FAQ voor ouders\, vanuit haar eigen ervaringen geput. \nOp zondag 10 september om 10u00 (hopelijk in het zonnetje) voorzien wij je van koffie en iets lekkers\, en neemt Nele ons mee doorheen haar FAQ-s van het ouderschap. Uiteraard kan je ook je eigen vragen stellen\, en je hebt de mogelijkheid een gesigneerd exemplaar aan te kopen. \nKindjes zijn meer dan welkom om mee te komen\, ik voorzie voldoende speelmogelijkheid. Moest het toch warm mogen zijn\, eventueel ook wat wateractiviteiten! \nPraktisch: je dient enkel in te schrijven voor de volwassenen. Deze babbel komt op €22\,50/persoon. Je ontvangt na je inschrijving van mij hierover nog een mail. Let op: je inschrijving is definitief na ontvangst van je betaling. Deze dient na 10 dagen (of max. 7d voor de activiteit) in orde te zijn\, anders kan ik je plekje helaas niet voorbehouden. Enkele dagen voor de babbel ontvang je nog een mail van mij met de laatste details! Die mail beland jammer genoeg soms in SPAM/ongewenste mails. Check dus zeker ook daar. \nVoor een annulatie tot 48u voor de activiteit kan je me steeds contacteren. \n 
URL:https://www.mamavillage.be/activiteit/873/
LOCATION:Heusden-Zolder\, Heusden-Zolder\, België
END:VEVENT
BEGIN:VEVENT
DTSTART;TZID=Europe/Brussels:20230923T140000
DTEND;TZID=Europe/Brussels:20230923T160000
DTSTAMP:20260426T055400
CREATED:20230905T073539Z
LAST-MODIFIED:20230919T125650Z
UID:888-1695477600-1695484800@www.mamavillage.be
SUMMARY:September draagwandeling
DESCRIPTION:Na onze zomerstop\, gaan we weer samen wandelen! \nGa jij met ons mee op pad? We spreken af om 13u45 bij Blabloom\, en gaan van daaruit samen wandelen in De Maten. Ik ben benieuwd of we al een herfstige wandeling gaan hebben of een mooi nazomers zonnetje! \nNaar goede gewoonte zal draagconsulente Melissa van Blabloom zal er bijzijn om\, indien jullie dit wensen\, jullie draagsystemen na te kijken en indien nodig bij te stellen. Zij zal ook meewandelen\, zodat jullie ook tijdens de wandeling bij haar terecht kunnen. \nNa de wandeling zijn we welkom bij Blabloom voor een hapje en drankje. Ook voorzien zij een speurtocht doorheen de winkel in het thema ‘wat heb je nodig om een verjaardagstaart te bakken’\, waarbij we eindigen bij een mooie Grimm’s verjaardagstaart om mee te spelen in de speelhoek! \nPS: je bent natuurlijk ook welkom als je liever komt met de buggy\, dan met een drager! Zin in verbinden\, is alles wat je écht nodig hebt 🙂 \nPPS: als het echt slecht weer is\, spreken we gewoon af bij Blabloom zelf\, voor het spelen en babbelen! 🙂 \nPraktisch: je dient enkel in te schrijven voor de volwassenen. Je ontvangt na je inschrijving van mij hierover nog een mail. Enkele dagen voor de wandeling ontvang je nog een mail van mij met de laatste details! Die mail beland jammer genoeg soms in SPAM/ongewenste mails. Check dus zeker ook daar. \n  \nVoor een annulatie tot 48u voor de activiteit kan je me steeds contacteren.
URL:https://www.mamavillage.be/activiteit/september-draagwandeling/
LOCATION:Hasseltweg 78\, 3600 Genk\, Hasseltweg 78\, Genk\, Limburg\, 3600\, België
END:VEVENT
BEGIN:VEVENT
DTSTART;TZID=Europe/Brussels:20231015T100000
DTEND;TZID=Europe/Brussels:20231015T120000
DTSTAMP:20260426T055400
CREATED:20231010T081059Z
LAST-MODIFIED:20231010T081551Z
UID:920-1697364000-1697371200@www.mamavillage.be
SUMMARY:Voeden in 't park
DESCRIPTION:Op zondag 15 oktober komen we graag samen voor een kleine\, informele ‘herfsteditie’ van Voeden in Verbinding in Hasselt. \nWe spreken af vanaf 10u00 in het stadspark in Hasselt\, en het gezamenlijke voedingsmoment zal doorgaan om 10u30. Nele van Bellafotografie.be zal er opnieuw bij zijn om dit moment op beeld vast te leggen\, en Nelle van LLL zal er ook zijn om je van een ‘openbaar voeden’ kaartje te voorzien! \nEr zijn heel wat bankjes in het park\, maar breng ook gerust een picknickdeken mee! Wij voorzien ook een klein hapje en drankje\, het is altijd handig als je je eigen beker meebrengt\, zo verkleinen we de afvalberg ook! Er zal een beperkte hoeveelheid warme drank zijn\, begin jij de dag liever met een koffie’tje? Breng gerust je thermos mee! \nWe zetten deze inschrijvingen vrij laat open\, want het was eigenlijk de bedoeling om gewoon wat op ons af te laten komen hoeveel mensen er zouden zijn\, en het informeel te houden. Maar de regen heeft geen verrassingen meer voor ons na deze editie van VIV\, en we zouden jullie graag kunnen bereiken indien er toch naar een plan B qua locatie gegaan moet worden. Dus bij deze ook alvast bevestiging van ons: als het regent\, zakken we af naar een andere\, overdekte\, locatie in Hasselt zelf\, die ook vlot te bereiken is en veel parking heeft. \nHopelijk tot zondag! \nVeel liefs\, Ann\, Linde en Insen \n  \nPS: dit is geen activiteit vanuit Mama Village. Het bestaande inschrijfsysteem opnieuw gebruiken was het makkelijkste en snelste 🙂
URL:https://www.mamavillage.be/activiteit/voeden-in-t-park/
LOCATION:Stadspark Hasselt\, Albrecht Rodenbachstraat 17\, 3500 Hasselt\, Hasselt\, Limburg\, 3500\, België
END:VEVENT
BEGIN:VEVENT
DTSTART;TZID=Europe/Brussels:20231112T140000
DTEND;TZID=Europe/Brussels:20231112T160000
DTSTAMP:20260426T055400
CREATED:20230922T071318Z
LAST-MODIFIED:20230922T071318Z
UID:904-1699797600-1699804800@www.mamavillage.be
SUMMARY:Winterwandeling
DESCRIPTION:In november doen we een winterwandeling! Ik vind zo een winterse wandeling echt genieten\, de kou op je wangen voelen en dan daarna binnen opwarmen met een warm drankje\, zalig. \nGa jij met ons mee op pad? We spreken af om 13u45 bij Blabloom\, en gaan van daaruit samen wandelen in De Maten. Mag ik stiekem hopen op een klein laagje gezellige sneeuw? \nNaar goede gewoonte zal draagconsulente Melissa van Blabloom zal er bijzijn om\, indien jullie dit wensen\, jullie draagsystemen na te kijken en indien nodig bij te stellen. Zij zal ook meewandelen\, zodat jullie ook tijdens de wandeling bij haar terecht kunnen. Wil je je kleintje extra warm induffelen? Loop daarvoor eens binnen\, de warme draagjassen en draagcovers zijn een aanrader! \nNa de wandeling zijn we welkom bij Blabloom voor een hapje en een hartverwarmend drankje. \nPS: je bent natuurlijk ook welkom als je liever komt met de buggy\, dan met een drager! Zin in verbinden\, is alles wat je écht nodig hebt 🙂 \nPPS: als het echt slecht weer is\, spreken we gewoon af bij Blabloom zelf\, voor het spelen en babbelen! 🙂 \nPraktisch: je dient enkel in te schrijven voor de volwassenen. Je ontvangt na je inschrijving van mij hierover nog een mail. Enkele dagen voor de wandeling ontvang je nog een mail van mij met de laatste details! Die mail beland jammer genoeg soms in SPAM/ongewenste mails. Check dus zeker ook daar. \nVoor een annulatie tot 48u voor de activiteit kan je me steeds contacteren.
URL:https://www.mamavillage.be/activiteit/winterwandeling/
LOCATION:Hasseltweg 78\, 3600 Genk\, Hasseltweg 78\, Genk\, Limburg\, 3600\, België
END:VEVENT
BEGIN:VEVENT
DTSTART;TZID=Europe/Brussels:20231129T140000
DTEND;TZID=Europe/Brussels:20231129T160000
DTSTAMP:20260426T055400
CREATED:20231009T104116Z
LAST-MODIFIED:20231106T123627Z
UID:913-1701266400-1701273600@www.mamavillage.be
SUMMARY:Babbel met Ellen van Oogjes dicht
DESCRIPTION:Ellen van Oogjes dicht is mama van Rik\, en gecertificeerd baby-led slaap en welzijnsconsultant. Ze gaat op een holistische manier aan de slag met ouders en kindjes tot 4 jaar\, om in verbinding eventuele slaapproblemen aan te pakken. \nOp woensdag 8 november om 14u00 neemt Ellen ons mee doorheen de biologisch normale slaap bij het jonge kind.  Uiteraard voorzien we ook voldoende ruimte om jullie eigen vragen te stellen. \nKindjes zijn meer dan welkom om mee te komen\, ik voorzie voldoende speelmogelijkheid. \nPraktisch: je dient enkel in te schrijven voor de volwassenen. Deze babbel komt op €25\,00/persoon. Je ontvangt na je inschrijving van mij hierover nog een mail. Let op: je inschrijving is definitief na ontvangst van je betaling. Deze dient na 10 dagen (of max. 7d voor de activiteit) in orde te zijn\, anders kan ik je plekje helaas niet voorbehouden. Enkele dagen voor de babbel ontvang je nog een mail van mij met de laatste details! Die mail beland jammer genoeg soms in SPAM/ongewenste mails. Check dus zeker ook daar. \nVoor een annulatie tot 48u voor de activiteit kan je me steeds contacteren. \n 
URL:https://www.mamavillage.be/activiteit/babbel-met-ellen-van-oogjes-dicht/
LOCATION:De Halte\, Viversel\, Sint-Quirinusstraat 23\, Heusden-Zolder\, 3550\, België
END:VEVENT
BEGIN:VEVENT
DTSTART;TZID=Europe/Brussels:20240303T100000
DTEND;TZID=Europe/Brussels:20240303T120000
DTSTAMP:20260426T055400
CREATED:20240216T103339Z
LAST-MODIFIED:20240226T153042Z
UID:1013-1709460000-1709467200@www.mamavillage.be
SUMMARY:(Draag)wandeling met Blabloom
DESCRIPTION:Het is tijd voor de eerste wandeling van 2024 samen met Blabloom! \nGa jij met ons mee op pad? We spreken af om 09u45 bij Blabloom\, en gaan van daaruit samen wandelen in De Maten. \nNaar goede gewoonte zal draagconsulente Melissa van Blabloom zal er bijzijn om\, indien jullie dit wensen\, jullie draagsystemen na te kijken en indien nodig bij te stellen. Zij zal ook meewandelen\, zodat jullie ook tijdens de wandeling bij haar terecht kunnen. \nNa de wandeling zijn we welkom bij Blabloom voor een hapje en een drankje. \nPS: je bent natuurlijk ook welkom als je liever komt met de buggy\, dan met een drager! Zin in verbinden\, is alles wat je écht nodig hebt 🙂 \nPPS: als het echt slecht weer is\, spreken we gewoon af bij Blabloom zelf\, voor het spelen en babbelen! 🙂 \nPraktisch: je dient enkel in te schrijven voor de volwassenen. Je ontvangt na je inschrijving van mij hierover nog een mail. Enkele dagen voor de wandeling ontvang je nog een mail van mij met de laatste details! Die mail beland jammer genoeg soms in SPAM/ongewenste mails. Check dus zeker ook daar. \nVoor een annulatie tot 48u voor de activiteit kan je me steeds contacteren.
URL:https://www.mamavillage.be/activiteit/draagwandeling-met-blabloom/
LOCATION:Hasseltweg 78\, 3600 Genk\, Hasseltweg 78\, Genk\, Limburg\, 3600\, België
CATEGORIES:(Draag) wandelingen
END:VEVENT
BEGIN:VEVENT
DTSTART;TZID=Europe/Brussels:20240317T100000
DTEND;TZID=Europe/Brussels:20240317T120000
DTSTAMP:20260426T055400
CREATED:20240119T130553Z
LAST-MODIFIED:20240226T153011Z
UID:994-1710669600-1710676800@www.mamavillage.be
SUMMARY:Speeltuindate
DESCRIPTION:We gaan nog eens samen spelen! \nWe spreken af op zondag 17 maart om 10u00 in de speeltuin van Bokrijk! Hier zijn verschillende stukken speeltuin\, zodat ik er wel denk dat elk kindje er iets aan heeft! Ik voorzie voor de ouders die erbij zijn een verwarmend drankje en iets om te snoepen. \nPraktisch: je dient enkel in te schrijven voor de volwassenen. Deze activiteit komt op €2\,50/persoon. Je ontvangt na je inschrijving van mij hierover nog een mail. Let op: je inschrijving is definitief na ontvangst van je betaling. Deze dient na 10 dagen (of max. 7d voor de activiteit) in orde te zijn\, anders kan ik je plekje helaas niet voorbehouden. Enkele dagen voor de babbel ontvang je nog een mail van mij met de laatste details! Die mail beland jammer genoeg soms in SPAM/ongewenste mails. Check dus zeker ook daar. \nVoor een annulatie tot 48u voor de activiteit kan je me steeds contacteren.
URL:https://www.mamavillage.be/activiteit/speeltuindate-3/
LOCATION:Craenevenne 121\, 3600 Genk\, Bokrijklaan 1\, Genk\, Limburg\, 3600\, België
CATEGORIES:Speelmomentjes
END:VEVENT
BEGIN:VEVENT
DTSTART;TZID=Europe/Brussels:20240406T100000
DTEND;TZID=Europe/Brussels:20240406T120000
DTSTAMP:20260426T055400
CREATED:20240216T103620Z
LAST-MODIFIED:20240219T095013Z
UID:1016-1712397600-1712404800@www.mamavillage.be
SUMMARY:Lentewandeling in de paasvakantie
DESCRIPTION:Ah de lente\, verlangen jullie er ook al naar? We kozen ervoor om eens gezellig samen te gaan wandelen in de paasvakantie! \nGa jij met ons mee op pad? We spreken af om 09u45 bij Blabloom\, en gaan van daaruit samen wandelen in De Maten. \nNaar goede gewoonte zal draagconsulente Melissa van Blabloom zal er bijzijn om\, indien jullie dit wensen\, jullie draagsystemen na te kijken en indien nodig bij te stellen. Zij zal ook meewandelen\, zodat jullie ook tijdens de wandeling bij haar terecht kunnen. \nNa de wandeling zijn we welkom bij Blabloom voor een hapje en een drankje. \nPS: je bent natuurlijk ook welkom als je liever komt met de buggy\, dan met een drager! Zin in verbinden\, is alles wat je écht nodig hebt 🙂 \nPPS: als het echt slecht weer is\, spreken we gewoon af bij Blabloom zelf\, voor het spelen en babbelen! 🙂 \nPraktisch: je dient enkel in te schrijven voor de volwassenen. Je ontvangt na je inschrijving van mij hierover nog een mail. Enkele dagen voor de wandeling ontvang je nog een mail van mij met de laatste details! Die mail beland jammer genoeg soms in SPAM/ongewenste mails. Check dus zeker ook daar. \nVoor een annulatie tot 48u voor de activiteit kan je me steeds contacteren.
URL:https://www.mamavillage.be/activiteit/lentewandeling-de-paasvakantie/
LOCATION:Hasseltweg 78\, 3600 Genk\, Hasseltweg 78\, Genk\, Limburg\, 3600\, België
CATEGORIES:(Draag) wandelingen
END:VEVENT
BEGIN:VEVENT
DTSTART;TZID=Europe/Brussels:20240428T130000
DTEND;TZID=Europe/Brussels:20240428T160000
DTSTAMP:20260426T055400
CREATED:20240119T130325Z
LAST-MODIFIED:20240219T080600Z
UID:989-1714309200-1714320000@www.mamavillage.be
SUMMARY:Alpacawandeling
DESCRIPTION:De vorige editie van deze alpacawandeling was echt geslaagd! Dus we gaan dat nog eens doen! \nNa een korte uitleg over het gedrag van de alpaca’s en de do’s-en-don’ts\, gaan we vertrekken voor een mooie wandeling van +- 75 minuten (+- 1\,5 km\, op het tempo van de alpaca’s) in de bossen van Kaulille. Er gaan twee alpaca’s mee op wandeling. Er is steeds de begeleiding van één andere volwassene per kind nodig. \nHou rekening met de afstand: we wandelen ongeveer één uur\, en kunnen niet zomaar stoppen. De wandeling is ook niet toegankelijk voor kinderwagens of buggy’s. Kindjes die nog niet zo lang kunnen stappen moeten het dus wel oké vinden om gedragen te worden. De wandeling wordt door een van de gidsen van de boerderij begeleid. \nNa de wandeling kunnen we samen nog iets drinken! \nPraktisch: deze activiteit komt op € 22\,50. Na inschrijving zal je van mij een mail ontvangen met de betalingsgegevens. Let op: je moet enkel de volwassenen inschrijven die meekomen en kindjes die ouder zijn dan 3 jaar. Kleinere kindjes niet!
URL:https://www.mamavillage.be/activiteit/alpacawandeling-2/
LOCATION:De Alpacaboerderij\, Lillerbaan 104\, Bocholt\, 3950\, België
CATEGORIES:(Draag) wandelingen
END:VEVENT
BEGIN:VEVENT
DTSTART;TZID=Europe/Brussels:20240615T100000
DTEND;TZID=Europe/Brussels:20240615T120000
DTSTAMP:20260426T055400
CREATED:20240528T092542Z
LAST-MODIFIED:20240528T092542Z
UID:1044-1718445600-1718452800@www.mamavillage.be
SUMMARY:Juni draagwandeling
DESCRIPTION:In juni gaan we graag weer wandelen! \nGa jij met ons mee op pad? We spreken af om 09u45 bij Blabloom\, en gaan van daaruit samen wandelen in De Maten. \nNaar goede gewoonte zal draagconsulente Melissa van Blabloom zal er bijzijn om\, indien jullie dit wensen\, jullie draagsystemen na te kijken en indien nodig bij te stellen. Zij zal ook meewandelen\, zodat jullie ook tijdens de wandeling bij haar terecht kunnen. \nFotografe Capturingmoments_bystefanie gaat met ons meewandelen deze wandeling! Zij zal onze wandeling en natuurlijk ook jullie vastleggen. Foto’s waarop jullie/jullie kindje(s) staan bezorg ik jullie achteraf ook! \nNa de wandeling zijn we welkom bij Blabloom voor een hapje en een drankje. \nPS: je bent natuurlijk ook welkom als je liever komt met de buggy\, dan met een drager! Zin in verbinden\, is alles wat je écht nodig hebt 🙂 Ook kindjes die graag zelf meestappen zijn geen enkel probleem\, we wandelen op een rustig tempo zodat de kleutertjes de ruimte hebben mee te ontdekken! \nPPS: als het echt slecht weer is\, spreken we gewoon af bij Blabloom zelf\, voor het spelen en babbelen! 🙂 \nPraktisch: je dient enkel in te schrijven voor de volwassenen. Je ontvangt na je inschrijving van mij hierover nog een mail. Enkele dagen voor de wandeling ontvang je nog een mail van mij met de laatste details! Die mail beland jammer genoeg soms in SPAM/ongewenste mails. Check dus zeker ook daar. \nVoor een annulatie tot 48u voor de activiteit kan je me steeds contacteren.
URL:https://www.mamavillage.be/activiteit/juni-draagwandeling/
LOCATION:Hasseltweg 78\, 3600 Genk\, Hasseltweg 78\, Genk\, Limburg\, 3600\, België
CATEGORIES:(Draag) wandelingen
END:VEVENT
END:VCALENDAR