BEGIN:VCALENDAR
VERSION:2.0
PRODID:-//Mama Village - ECPv6.3.2//NONSGML v1.0//EN
CALSCALE:GREGORIAN
METHOD:PUBLISH
X-WR-CALNAME:Mama Village
X-ORIGINAL-URL:https://www.mamavillage.be
X-WR-CALDESC:Evenementen voor Mama Village
REFRESH-INTERVAL;VALUE=DURATION:PT1H
X-Robots-Tag:noindex
X-PUBLISHED-TTL:PT1H
BEGIN:VTIMEZONE
TZID:Europe/Brussels
BEGIN:DAYLIGHT
TZOFFSETFROM:+0100
TZOFFSETTO:+0200
TZNAME:CEST
DTSTART:20220327T010000
END:DAYLIGHT
BEGIN:STANDARD
TZOFFSETFROM:+0200
TZOFFSETTO:+0100
TZNAME:CET
DTSTART:20221030T010000
END:STANDARD
END:VTIMEZONE
BEGIN:VEVENT
DTSTART;TZID=Europe/Brussels:20221030T100000
DTEND;TZID=Europe/Brussels:20221030T130000
DTSTAMP:20260426T012855
CREATED:20220922T165507Z
LAST-MODIFIED:20221005T082735Z
UID:285-1667124000-1667134800@www.mamavillage.be
SUMMARY:Speeltuindate bokrijk
DESCRIPTION:Er was wat vraag naar een activiteit die ook voor oudere kindjes\, die geen zin meer hebben in de draagzak of buggy. Aangezien mijn kleine werveldwind zelf al van voor ze kon stappen de speeltuin heel fijn vond\, leek me dat een leuk idee. Hier kunnen heel wat leeftijden zich uitleven! \nWe spreken af op zondag 30 oktober om 10u00 in de speeltuin van Bokrijk! Hier zijn verschillende stukken speeltuin\, zodat ik er wel denk dat elk kindje er iets aan heeft! Ik voorzie voor de ouders die erbij zijn een hartverwarmend drankje en hapje! \nPS: moest het echt slecht weer zijn\, dan contacteer ik de deelnemers om even af te stemmen of we bv. afspreken in een binnenspeeltuin. Als je kindje meekomt\, moet je hem/haar niet apart inschrijven! Als aantal bij inschrijving mag je het aantal volwassenen tellen!
URL:https://www.mamavillage.be/activiteit/speeltuindate-bokrijk/
LOCATION:Bokrijk\, Bokrijklaan 1\, Genk\, Limburg\, 3600\, België
CATEGORIES:Speelmomentjes
END:VEVENT
BEGIN:VEVENT
DTSTART;TZID=Europe/Brussels:20221027T133000
DTEND;TZID=Europe/Brussels:20221027T153000
DTSTAMP:20260426T012855
CREATED:20220922T165509Z
LAST-MODIFIED:20221010T075412Z
UID:279-1666877400-1666884600@www.mamavillage.be
SUMMARY:Babbel over alles wat je momenteel bezighoud in het ouderschap
DESCRIPTION:Op deze mamababbel nodig ik jullie graag uit om\, samen met mij\, vooral onze verhalen en ervaringen te delen. Wat houd je momenteel bezig\, wat deel je graag eens of stem je graag af met gelijkgestemden. Voel je ontzettend welkom om samen onze verhalen te delen en elkaar te helpen en te dragen. \nDe babbel zal doorgaan op donderdag 27 oktober om 13u30. Je kindje is natuurlijk ook steeds welkom\, wij voorzien speelgoed! Ook een hapje en drankje voor jezelf als mama wordt voor jullie voorzien! \nPraktisch: deze babbel komt op € 10\,00. Na inschrijving zal je van mij een mail ontvangen met de betalingsgegevens. Als je kindje meekomt\, moet je hem/haar niet apart inschrijven! Als aantal bij inschrijving mag je het aantal volwassenen tellen!
URL:https://www.mamavillage.be/activiteit/mamababbel-over-borstvoeding/
LOCATION:Praktijk Bloei\, Steenweg 67\, Herk-de-Stad\, 3540\, België
CATEGORIES:Babbels
END:VEVENT
BEGIN:VEVENT
DTSTART;TZID=Europe/Brussels:20221018T153000
DTEND;TZID=Europe/Brussels:20221018T173000
DTSTAMP:20260426T012855
CREATED:20220909T094908Z
LAST-MODIFIED:20221005T082819Z
UID:149-1666107000-1666114200@www.mamavillage.be
SUMMARY:Herfstwandeling
DESCRIPTION:In oktober wandelen vind ik toch altijd iets magisch hebben\, tussen de vallende blaadjes in alle mooie kleuren. Dat gevoel deel ik graag met jullie 🙂 \nWe gaan deze keer wandelen op domein Kiewit.\nJe kan ervoor of erna nog naar de kinderboerderij gaan. Ook is het lekker eten en drinken bij Koe-Vert (website)! \nTijdens de wandeling voorzie ik een hapje en een drankje voor jullie. Heb je bepaalde allergieën of intoleranties? Stuur me even een berichtje\, dan kan ik daar rekening mee houden! Om de kosten hiervan te dekken\, vraag ik een bijdrage van € 2\,50. Als je kindje meekomt\, moet je hem/haar niet apart inschrijven! Als aantal bij inschrijving mag je het aantal volwassenen tellen! \nAfspraak om 15u30 aan de parking (Putvennestraat).
URL:https://www.mamavillage.be/activiteit/herfstwandeling/
LOCATION:Domein Kiewit\, Putvennestraat 108\, Hasselt\, Limburg\, 3500\, België
CATEGORIES:(Draag) wandelingen
END:VEVENT
BEGIN:VEVENT
DTSTART;TZID=Europe/Brussels:20221007T190000
DTEND;TZID=Europe/Brussels:20221007T210000
DTSTAMP:20260426T012855
CREATED:20220922T165547Z
LAST-MODIFIED:20221005T083651Z
UID:277-1665169200-1665176400@www.mamavillage.be
SUMMARY:Mamababbel met The Gentle Kidd
DESCRIPTION:Slaap.. We hebben allemaal al wel eens dé vraag gehad\, hoe klein onze baby ook nog is ‘en\, slaapt ie goed’. Voor mij was het al vrij snel heel makkelijk om te zeggen ‘ja\, als een baby’\, en te weten wat dat écht betekent\, slapen als een baby. \nHanne van The Gentle Kidd is een holistische slaapcoach\, gespecialiseerd in biologisch normale slaap. Want wat onze maatschappij vaak ziet als normaal\, ligt vaak helaas mijlenver van het echte biologische normaal. Ben je benieuwd naar wat dan wél biologisch normale slaap is\, ook voorbij de babytijd. \nOp vrijdag 7 oktober om 19u00 nodigen Hanne en ik jullie graag uit\, om samen met ons in biologisch normale slaap te duiken. Je kindje is ook steeds welkom\, wij voorzien speelgoed! Ook een hapje en drankje voor jezelf als mama (of papa) wordt voor jullie voorzien! \nPraktisch: deze babbel komt op € 30\,00. Na inschrijving zal je van mij een mail ontvangen met de betalingsgegevens. Als je kindje meekomt\, moet je hem/haar niet apart inschrijven! Als aantal bij inschrijving mag je het aantal volwassenen tellen!
URL:https://www.mamavillage.be/activiteit/mamababbel-met-the-gentle-kidd/
LOCATION:Praktijk Bloei\, Steenweg 67\, Herk-de-Stad\, 3540\, België
CATEGORIES:Babbels
END:VEVENT
BEGIN:VEVENT
DTSTART;TZID=Europe/Brussels:20220924T140000
DTEND;TZID=Europe/Brussels:20220924T153000
DTSTAMP:20260426T012855
CREATED:20220909T110325Z
LAST-MODIFIED:20220913T104049Z
UID:162-1664028000-1664033400@www.mamavillage.be
SUMMARY:Septemberwandeling
DESCRIPTION:Onze allereerste (draag)wandeling! \nEn ook meteen de eerste activiteit van onze mama village\, deze wandeling! Ik kijk ernaar uit om jullie hierbij te leren kennen. Samen wandelen\, babbelen en verbinden! \nWe spreken af op de parking bij Blabloom\, om van daaruit samen te gaan wandelen op natuurdomein De Maten. \nEn het is niet toevallig dat we afspreken bij Blabloom (al kan je mij daar ook gewoon regelmatig vinden). Als grote voorstander van ergonomisch dragen\, zal er namelijk een draagconsulente van Blabloom met ons meewandelen! Zij kan bij aanvang van de wandeling\, of tijdens de wandeling\, altijd even meekijken. Ik had het bv. zelf voor\, dat Stella na een tijdje niet meer 100% goed zat\, maar ik de instelling uit gewoonte niet meer elke keer nakeek. Zeker waardevol dus! Na de wandeling zijn we dan ook welkom bij Blabloom voor een hapje en een drankje. \nPS: je bent natuurlijk ook welkom als je liever komt met de buggy\, dan met een drager! Zin in verbinden\, is alles wat je écht nodig hebt 🙂
URL:https://www.mamavillage.be/activiteit/septemberwandeling/
LOCATION:Hasseltweg 78\, 3600 Genk\, Hasseltweg 78\, Genk\, Limburg\, 3600\, België
CATEGORIES:(Draag) wandelingen
END:VEVENT
END:VCALENDAR