BEGIN:VCALENDAR
VERSION:2.0
PRODID:-//Mama Village - ECPv6.3.2//NONSGML v1.0//EN
CALSCALE:GREGORIAN
METHOD:PUBLISH
X-ORIGINAL-URL:https://www.mamavillage.be
X-WR-CALDESC:Evenementen voor Mama Village
REFRESH-INTERVAL;VALUE=DURATION:PT1H
X-Robots-Tag:noindex
X-PUBLISHED-TTL:PT1H
BEGIN:VTIMEZONE
TZID:Europe/Brussels
BEGIN:DAYLIGHT
TZOFFSETFROM:+0100
TZOFFSETTO:+0200
TZNAME:CEST
DTSTART:20230326T010000
END:DAYLIGHT
BEGIN:STANDARD
TZOFFSETFROM:+0200
TZOFFSETTO:+0100
TZNAME:CET
DTSTART:20231029T010000
END:STANDARD
END:VTIMEZONE
BEGIN:VEVENT
DTSTART;TZID=Europe/Brussels:20230406T100000
DTEND;TZID=Europe/Brussels:20230406T110000
DTSTAMP:20260426T055143
CREATED:20221202T170027Z
LAST-MODIFIED:20230214T161815Z
UID:595-1680775200-1680778800@www.mamavillage.be
SUMMARY:Boekstart - voorleesmoment
DESCRIPTION:In het kader van de Boekstart voorziet de bib van Heusden-Zolder (in mijn hometown deze keer dus :D) voor ons een voorleesmoment. Voor de kindjes die dit nog te lang vinden duren\, liggen er op dat moment ook inkijkboekjes klaar. Na het voorleesmoment kunnen we samen op ontdekking gaan doorheen de bib en hun aanbod. \nDe mensen van de bib zullen ons ook met tips en advies bijstaan\, en we kunnen natuurlijk ook tips aan elkaar uitwisselen! \nKen je boekstart al? Zij helpen jonge ouders om kindjes van baby en peuter af aan kennis te laten maken met boeken. Ik ben zelf een grote lezer\, al van kleinsaf aan. Wij waren dus ook heel blij met dit initiatief! \nPraktisch: deze activiteit komt op € 2\,00. Na inschrijving zal je van mij een mail ontvangen met de betalingsgegevens. Let op: je moet enkel de volwassenen inschrijven die meekomen\, de kindjes niet! Deze activiteit is geschikt voor kindjes van 6 maanden tot 3 jaar. \n 
URL:https://www.mamavillage.be/activiteit/boekstart-voorleesmoment/
LOCATION:Bib Heusden-Zolder\, Sint-Willibrordusplein 8\, Heusden-Zolder\, 3550\, België
CATEGORIES:Babbels
END:VEVENT
BEGIN:VEVENT
DTSTART;TZID=Europe/Brussels:20230416T100000
DTEND;TZID=Europe/Brussels:20230416T120000
DTSTAMP:20260426T055143
CREATED:20230223T131518Z
LAST-MODIFIED:20230225T180611Z
UID:708-1681639200-1681646400@www.mamavillage.be
SUMMARY:Speeltuindate
DESCRIPTION:Het begint stilaan mooier weer te worden\, dus ook weer tijd voor een speeltuindate! \nWe spreken af op zondag 16 april om 10u00 in de speeltuin van Bokrijk! Hier zijn verschillende stukken speeltuin\, zodat ik er wel denk dat elk kindje er iets aan heeft! Ik voorzie voor de ouders die erbij zijn een hartverwarmend drankje en hapje! \nPS: moest het echt slecht weer zijn\, dan contacteer ik de deelnemers om even af te stemmen of we bv. afspreken in een binnenspeeltuin. Als je kindje meekomt\, moet je hem/haar niet apart inschrijven! Als aantal bij inschrijving mag je het aantal volwassenen tellen! \nPraktisch: je dient enkel in te schrijven voor de volwassenen. Deze activiteit komt op €2\,50/persoon. Je ontvangt na je inschrijving van mij hierover nog een mail. Let op: je inschrijving is definitief na ontvangst van je betaling. Deze dient na 10 dagen (of max. 7d voor de activiteit) in orde te zijn\, anders kan ik je plekje helaas niet voorbehouden. Enkele dagen voor de babbel ontvang je nog een mail van mij met de laatste details! Die mail beland jammer genoeg soms in SPAM/ongewenste mails. Check dus zeker ook daar. \nVoor een annulatie tot 48u voor de activiteit kan je me steeds contacteren. \n 
URL:https://www.mamavillage.be/activiteit/speeltuindate/
LOCATION:Bokrijk\, Bokrijklaan 1\, Genk\, Limburg\, 3600\, België
CATEGORIES:Speelmomentjes
END:VEVENT
END:VCALENDAR