BEGIN:VCALENDAR
VERSION:2.0
PRODID:-//Mama Village - ECPv6.3.2//NONSGML v1.0//EN
CALSCALE:GREGORIAN
METHOD:PUBLISH
X-ORIGINAL-URL:https://www.mamavillage.be
X-WR-CALDESC:Evenementen voor Mama Village
REFRESH-INTERVAL;VALUE=DURATION:PT1H
X-Robots-Tag:noindex
X-PUBLISHED-TTL:PT1H
BEGIN:VTIMEZONE
TZID:Europe/Brussels
BEGIN:DAYLIGHT
TZOFFSETFROM:+0100
TZOFFSETTO:+0200
TZNAME:CEST
DTSTART:20230326T010000
END:DAYLIGHT
BEGIN:STANDARD
TZOFFSETFROM:+0200
TZOFFSETTO:+0100
TZNAME:CET
DTSTART:20231029T010000
END:STANDARD
END:VTIMEZONE
BEGIN:VEVENT
DTSTART;TZID=Europe/Brussels:20230511T140000
DTEND;TZID=Europe/Brussels:20230511T160000
DTSTAMP:20260426T042654
CREATED:20230414T074304Z
LAST-MODIFIED:20230414T074304Z
UID:781-1683813600-1683820800@www.mamavillage.be
SUMMARY:Lentewandeling
DESCRIPTION:We gaan nog eens samen wandelen op domein Kiewit!\nJe kan ervoor of erna nog naar de kinderboerderij gaan. Ook is het lekker eten en drinken bij Koe-Vert (website)! \nTijdens de wandeling voorzie ik een hapje en een drankje voor jullie. Heb je bepaalde allergieën of intoleranties? Stuur me even een berichtje\, dan kan ik daar rekening mee houden! Om de kosten hiervan te dekken\, vraag ik een bijdrage van € 2\,50. Als je kindje meekomt\, moet je hem/haar niet apart inschrijven! Als aantal bij inschrijving mag je het aantal volwassenen tellen! \nAfspraak om 14u00 aan de parking (Putvennestraat).
URL:https://www.mamavillage.be/activiteit/lentewandeling/
LOCATION:Domein Kiewit\, Putvennestraat 108\, Hasselt\, Limburg\, 3500\, België
CATEGORIES:(Draag) wandelingen
END:VEVENT
BEGIN:VEVENT
DTSTART;TZID=Europe/Brussels:20230517T190000
DTEND;TZID=Europe/Brussels:20230517T210000
DTSTAMP:20260426T042654
CREATED:20230309T150327Z
LAST-MODIFIED:20230502T095228Z
UID:701-1684350000-1684357200@www.mamavillage.be
SUMMARY:Babbel met Eline Claeys over afgestemd opvoeden
DESCRIPTION:Eline Claeys is praktijkgerichte orthopedagoog\, zorgcoördinator en mama\, en deelt op haar account ‘etiketjes en afgestemd opvoeden’ enorm veel waardevolle informatie. \nOp woensdag 17 mei zal Eline ons tijdens deze babbel meenemen doorheen afgestemd opvoeden. Over het volgen van je buikgevoel. Over erkenning en informatie voor ouders met het kindjes waar het net wat anders loopt. Maar ook voor kinderen zonder etiketjes\, die willen vertrouwen op hun buikgevoel en vooral inzetten op afstemming. Er wordt een hapje en een drankje voorzien\, en er is ook ruimte om je eigen vragen te stellen. \nPraktisch: je dient enkel in te schrijven voor de volwassenen. Deze babbel komt op €30\,00/persoon. Je ontvangt na je inschrijving van mij hierover nog een mail. Let op: je inschrijving is definitief na ontvangst van je betaling. Deze dient na 10 dagen (of max. 7d voor de activiteit) in orde te zijn\, anders kan ik je plekje helaas niet voorbehouden. Enkele dagen voor de babbel ontvang je nog een mail van mij met de laatste details! Die mail beland jammer genoeg soms in SPAM/ongewenste mails. Check dus zeker ook daar. \nVoor een annulatie tot 48u voor de activiteit kan je me steeds contacteren. \n 
URL:https://www.mamavillage.be/activiteit/babbel-met-eline-claeys-over-afgestemd-opvoeden/
LOCATION:Siloam\, Holsteenweg 17\, 3520 Zonhoven\, Holsteenweg 17\, Zonhoven\, 3520\, België
CATEGORIES:Babbels
END:VEVENT
BEGIN:VEVENT
DTSTART;TZID=Europe/Brussels:20230518T100000
DTEND;TZID=Europe/Brussels:20230518T113000
DTSTAMP:20260426T042654
CREATED:20230418T155425Z
LAST-MODIFIED:20230419T083956Z
UID:793-1684404000-1684409400@www.mamavillage.be
SUMMARY:Sensorisch speelmoment met Raising Sprouts
DESCRIPTION:Sensorisch spel\, je hebt er ongetwijfeld al eens van gehoord. Maar wat is het juist\, en wat kan je ermee? Sarah van Raising Sprouts neemt ons in dit speelmoment graag mee door de wondere wereld van sensorisch spel. \nTijdens dit speelmoment kan je kennis maken met de mogelijkheden van sensorisch\, open einde spel. Ben je nieuwsgierig naar de mogelijkheden of vraag je je af hoe je kindje op zo’n speluitnodiging zal reageren? Wil je graag de verschillende materialen in het echt bekijken en uitproberen? Dat kan allemaal tijdens een speelsessie. \nEr zullen een aantal speluitnodigingen klaargezet worden voor de kindjes. Geef bij het inschrijven ook de leeftijd van je kindje door\, zo kunnen we de materialen daarop aanpassen. \nZijn er specifieke materialen die je al eens bij Raising Sprouts zag die je interessant vind\, en graag eens in het echt wil bekijken of uitproberen? Laat het ons gerust weten\, dan bekijken we wat mogelijk is! \nPraktisch: in tegenstelling tot anders\, is de inschrijving nu per kind! Er is één volwassene per kind welkom. Deze activiteit komt op €35\,00/kind. Vul bij de bevestiging naast je eigen naam  ook de naam van je kindje + diens leeftijd in! Je ontvangt na je inschrijving van mij hierover nog een mail. Let op: je inschrijving is definitief na ontvangst van je betaling. Deze dient na 10 dagen (of max. 7d voor de activiteit) in orde te zijn\, anders kan ik je plekje helaas niet voorbehouden. Enkele dagen voor de activiteit ontvang je nog een mail van mij met de laatste details! Die mail beland jammer genoeg soms in SPAM/ongewenste mails. Check dus zeker ook daar. \nVoor een annulatie tot 48u voor de activiteit kan je me steeds contacteren. \n 
URL:https://www.mamavillage.be/activiteit/sensorisch-speelmoment-met-raising-sprouts/
LOCATION:Siloam\, Holsteenweg 17\, 3520 Zonhoven\, Holsteenweg 17\, Zonhoven\, 3520\, België
CATEGORIES:Speelmomentjes
END:VEVENT
END:VCALENDAR