BEGIN:VCALENDAR
VERSION:2.0
PRODID:-//Mama Village - ECPv6.3.2//NONSGML v1.0//EN
CALSCALE:GREGORIAN
METHOD:PUBLISH
X-ORIGINAL-URL:https://www.mamavillage.be
X-WR-CALDESC:Evenementen voor Mama Village
REFRESH-INTERVAL;VALUE=DURATION:PT1H
X-Robots-Tag:noindex
X-PUBLISHED-TTL:PT1H
BEGIN:VTIMEZONE
TZID:Europe/Brussels
BEGIN:DAYLIGHT
TZOFFSETFROM:+0100
TZOFFSETTO:+0200
TZNAME:CEST
DTSTART:20230326T010000
END:DAYLIGHT
BEGIN:STANDARD
TZOFFSETFROM:+0200
TZOFFSETTO:+0100
TZNAME:CET
DTSTART:20231029T010000
END:STANDARD
END:VTIMEZONE
BEGIN:VEVENT
DTSTART;TZID=Europe/Brussels:20230910T100000
DTEND;TZID=Europe/Brussels:20230910T120000
DTSTAMP:20260425T225746
CREATED:20230822T153030Z
LAST-MODIFIED:20230822T153103Z
UID:873-1694340000-1694347200@www.mamavillage.be
SUMMARY:FAQ-ochtend met Nele Reymen
DESCRIPTION:Nele Reymen is autour\, columniste en mama van twee. Haar nieuwste boekbaby is een lijvige FAQ voor ouders\, vanuit haar eigen ervaringen geput. \nOp zondag 10 september om 10u00 (hopelijk in het zonnetje) voorzien wij je van koffie en iets lekkers\, en neemt Nele ons mee doorheen haar FAQ-s van het ouderschap. Uiteraard kan je ook je eigen vragen stellen\, en je hebt de mogelijkheid een gesigneerd exemplaar aan te kopen. \nKindjes zijn meer dan welkom om mee te komen\, ik voorzie voldoende speelmogelijkheid. Moest het toch warm mogen zijn\, eventueel ook wat wateractiviteiten! \nPraktisch: je dient enkel in te schrijven voor de volwassenen. Deze babbel komt op €22\,50/persoon. Je ontvangt na je inschrijving van mij hierover nog een mail. Let op: je inschrijving is definitief na ontvangst van je betaling. Deze dient na 10 dagen (of max. 7d voor de activiteit) in orde te zijn\, anders kan ik je plekje helaas niet voorbehouden. Enkele dagen voor de babbel ontvang je nog een mail van mij met de laatste details! Die mail beland jammer genoeg soms in SPAM/ongewenste mails. Check dus zeker ook daar. \nVoor een annulatie tot 48u voor de activiteit kan je me steeds contacteren. \n 
URL:https://www.mamavillage.be/activiteit/873/
LOCATION:Heusden-Zolder\, Heusden-Zolder\, België
END:VEVENT
BEGIN:VEVENT
DTSTART;TZID=Europe/Brussels:20230923T140000
DTEND;TZID=Europe/Brussels:20230923T160000
DTSTAMP:20260425T225746
CREATED:20230905T073539Z
LAST-MODIFIED:20230919T125650Z
UID:888-1695477600-1695484800@www.mamavillage.be
SUMMARY:September draagwandeling
DESCRIPTION:Na onze zomerstop\, gaan we weer samen wandelen! \nGa jij met ons mee op pad? We spreken af om 13u45 bij Blabloom\, en gaan van daaruit samen wandelen in De Maten. Ik ben benieuwd of we al een herfstige wandeling gaan hebben of een mooi nazomers zonnetje! \nNaar goede gewoonte zal draagconsulente Melissa van Blabloom zal er bijzijn om\, indien jullie dit wensen\, jullie draagsystemen na te kijken en indien nodig bij te stellen. Zij zal ook meewandelen\, zodat jullie ook tijdens de wandeling bij haar terecht kunnen. \nNa de wandeling zijn we welkom bij Blabloom voor een hapje en drankje. Ook voorzien zij een speurtocht doorheen de winkel in het thema ‘wat heb je nodig om een verjaardagstaart te bakken’\, waarbij we eindigen bij een mooie Grimm’s verjaardagstaart om mee te spelen in de speelhoek! \nPS: je bent natuurlijk ook welkom als je liever komt met de buggy\, dan met een drager! Zin in verbinden\, is alles wat je écht nodig hebt 🙂 \nPPS: als het echt slecht weer is\, spreken we gewoon af bij Blabloom zelf\, voor het spelen en babbelen! 🙂 \nPraktisch: je dient enkel in te schrijven voor de volwassenen. Je ontvangt na je inschrijving van mij hierover nog een mail. Enkele dagen voor de wandeling ontvang je nog een mail van mij met de laatste details! Die mail beland jammer genoeg soms in SPAM/ongewenste mails. Check dus zeker ook daar. \n  \nVoor een annulatie tot 48u voor de activiteit kan je me steeds contacteren.
URL:https://www.mamavillage.be/activiteit/september-draagwandeling/
LOCATION:Hasseltweg 78\, 3600 Genk\, Hasseltweg 78\, Genk\, Limburg\, 3600\, België
END:VEVENT
END:VCALENDAR